

BEGIN:VCALENDAR
VERSION:2.0
PRODID:-//eventon.com NONSGML v1.0//EN
BEGIN:VEVENT
UID:69eb6b2a7d8bc
DTSTAMP:20260424T180754
DTSTART:20231215T200000Z
DTEND:20231215T210000Z
TZID:Pacific/Midway
LOCATION:YouTube 
SUMMARY:Аритмияға қарсы I класты препараттар: дақпырт пен шындық
DESCRIPTION: «Бақыт жүректің ішінде» деген сөз бар\,  ал жүректе қиындық болса ше? Дақпырт пен шындық ашылатын аритмияға қарсы І класты препараттар туралы қызықты бейне дәріс бар. Тіркелген пайдаланушылар дәрісті мына сілтеме бойынша көре алады: &#171;Аритмияға қарсы I класты препараттар: дақпырт пен шындық&#187;\nhttps://open.olainfarm.kz/events/%d0%b0%d0%bd%d1%82%d0%b8%d0%b0%d1%80%d0%b8%d1%82%d0%bc%d0%b8%d1%87%d0%b5%d1%81%d0%ba%d0%b8%d0%b5-%d0%bf%d1%80%d0%b5%d0%bf%d0%b0%d1%80%d0%b0%d1%82%d1%8b-i-%d0%ba%d0%bb%d0%b0%d1%81%d1%81%d0%b0/
URL:https://open.olainfarm.kz/events/%d0%b0%d0%bd%d1%82%d0%b8%d0%b0%d1%80%d0%b8%d1%82%d0%bc%d0%b8%d1%87%d0%b5%d1%81%d0%ba%d0%b8%d0%b5-%d0%bf%d1%80%d0%b5%d0%bf%d0%b0%d1%80%d0%b0%d1%82%d1%8b-i-%d0%ba%d0%bb%d0%b0%d1%81%d1%81%d0%b0/
END:VEVENT
END:VCALENDAR