

BEGIN:VCALENDAR
VERSION:2.0
PRODID:-//eventon.com NONSGML v1.0//EN
BEGIN:VEVENT
UID:69eb92985b4b4
DTSTAMP:20260424T205608
DTSTART:20231202T030000Z
DTEND:20231202T040000Z
TZID:Pacific/Midway
LOCATION:YouTube 
SUMMARY:«Пациенттің жасына байланысты қышымасы бар пациенттерді басқарудағы айырмашылықтар мен ұқсастықтар» вебинары
DESCRIPTION: Ғылыми жетекші: Масальский Сергей Сергеевич – м.ғ.к.\,  аллерголог-иммунолог дәрігер\,  РБАИҚ (АДАИР) мен «Педиатриядағы аллергология және иммунология» журналының жауапты хатшысы\,  Аллергология және иммунология ҒККО бас дәрігерінің ғылыми жұмыс жөніндегі орынбасары\,  Мәскеу қ. Қышыма – дәрігердің қабылдауында жиі айтылатын шағым. Қышыманың себептері әртүрлі және көбінесе көп пәндік тәсілді қажет етеді. Бастапқы медициналық[..]\nhttps://open.olainfarm.kz/events/%d0%b2%d0%b5%d0%b1%d0%b8%d0%bd%d0%b0%d1%80-%d0%be%d1%82%d0%bb%d0%b8%d1%87%d0%b8%d1%8f-%d0%b8-%d1%81%d1%85%d0%be%d0%b4%d1%81%d1%82%d0%b2%d0%b0-%d0%b2-%d0%b2%d0%b5%d0%b4%d0%b5%d0%bd%d0%b8%d0%b8-%d0%bf/
URL:https://open.olainfarm.kz/events/%d0%b2%d0%b5%d0%b1%d0%b8%d0%bd%d0%b0%d1%80-%d0%be%d1%82%d0%bb%d0%b8%d1%87%d0%b8%d1%8f-%d0%b8-%d1%81%d1%85%d0%be%d0%b4%d1%81%d1%82%d0%b2%d0%b0-%d0%b2-%d0%b2%d0%b5%d0%b4%d0%b5%d0%bd%d0%b8%d0%b8-%d0%bf/
END:VEVENT
END:VCALENDAR