

BEGIN:VCALENDAR
VERSION:2.0
PRODID:-//eventon.com NONSGML v1.0//EN
BEGIN:VEVENT
UID:69eb6b2a89c25
DTSTAMP:20260424T180754
DTSTART:20231215T200000Z
DTEND:20231215T210000Z
TZID:Pacific/Midway
LOCATION:YouTube 
SUMMARY:Антиаритмические препараты  I класса: мифы и реальность
DESCRIPTION: Говорят\,  что счастье находится в сердце\,  но что если сердце испытывает проблемы? Есть интересная видео-лекция про антиаритмические препараты &nbsp;I класса\,  где раскрыты мифы и реальность. Зарегистрированные пользователи могут просмотреть лекцию по ссылке:  &#171;Антиаритмические препараты  I класса: мифы и реальность&#187;\nhttps://open.olainfarm.kz/events/%d0%b0%d0%bd%d1%82%d0%b8%d0%b0%d1%80%d0%b8%d1%82%d0%bc%d0%b8%d1%87%d0%b5%d1%81%d0%ba%d0%b8%d0%b5-%d0%bf%d1%80%d0%b5%d0%bf%d0%b0%d1%80%d0%b0%d1%82%d1%8b-i-%d0%ba%d0%bb%d0%b0%d1%81%d1%81%d0%b0/
URL:https://open.olainfarm.kz/events/%d0%b0%d0%bd%d1%82%d0%b8%d0%b0%d1%80%d0%b8%d1%82%d0%bc%d0%b8%d1%87%d0%b5%d1%81%d0%ba%d0%b8%d0%b5-%d0%bf%d1%80%d0%b5%d0%bf%d0%b0%d1%80%d0%b0%d1%82%d1%8b-i-%d0%ba%d0%bb%d0%b0%d1%81%d1%81%d0%b0/
END:VEVENT
END:VCALENDAR